BEGIN:VCALENDAR
VERSION:2.0
PRODID:-//Ashton Parish Council//Meeting Calendar//EN
CALSCALE:GREGORIAN
METHOD:PUBLISH
BEGIN:VEVENT
UID:70506-20210519@ashtonparishcouncil.gov.uk
DTSTAMP:20260421T181038Z
DTSTART;VALUE=DATE:20210519
DTEND;VALUE=DATE:20210520
SUMMARY:Annual Council Meeting &#8211\\; 19th May 2021
DESCRIPTION:Annual Meeting\nView details: https://ashtonparishcouncil.gov.uk/meetings/annual-council-meeting-19th-may-2021/
URL:https://ashtonparishcouncil.gov.uk/meetings/annual-council-meeting-19th-may-2021/
END:VEVENT
END:VCALENDAR
