BEGIN:VCALENDAR
VERSION:2.0
PRODID:-//Ashton Parish Council//Meeting Calendar//EN
CALSCALE:GREGORIAN
METHOD:PUBLISH
BEGIN:VEVENT
UID:70508-20230510@ashtonparishcouncil.gov.uk
DTSTAMP:20260421T165653Z
DTSTART;VALUE=DATE:20230510
DTEND;VALUE=DATE:20230511
SUMMARY:Annual Council Meeting &#8211\\; 10th May 2023
DESCRIPTION:Annual Meeting\nView details: https://ashtonparishcouncil.gov.uk/meetings/annual-council-meeting-10th-may-2023/
URL:https://ashtonparishcouncil.gov.uk/meetings/annual-council-meeting-10th-may-2023/
END:VEVENT
END:VCALENDAR
