BEGIN:VCALENDAR
VERSION:2.0
PRODID:-//Ashton Parish Council//Meeting Calendar//EN
CALSCALE:GREGORIAN
METHOD:PUBLISH
BEGIN:VEVENT
UID:70601-20200527@ashtonparishcouncil.gov.uk
DTSTAMP:20260420T094656Z
DTSTART;VALUE=DATE:20200527
DTEND;VALUE=DATE:20200528
SUMMARY:Neighbourhood Plan Council Meeting &#8211\\; 27th May 2020
DESCRIPTION:Neighbourhood Plan Meeting\nView details: https://ashtonparishcouncil.gov.uk/meetings/neighbourhood-plan-council-meeting-27th-may-2020/
URL:https://ashtonparishcouncil.gov.uk/meetings/neighbourhood-plan-council-meeting-27th-may-2020/
END:VEVENT
END:VCALENDAR
