BEGIN:VCALENDAR
VERSION:2.0
PRODID:-//Ashton Parish Council//Meeting Calendar//EN
CALSCALE:GREGORIAN
METHOD:PUBLISH
BEGIN:VEVENT
UID:70604-20210729@ashtonparishcouncil.gov.uk
DTSTAMP:20260420T111652Z
DTSTART;VALUE=DATE:20210729
DTEND;VALUE=DATE:20210730
SUMMARY:Neighbourhood Plan Council Meeting &#8211\\; 29th July 2021
DESCRIPTION:Neighbourhood Plan Meeting\nView details: https://ashtonparishcouncil.gov.uk/meetings/neighbourhood-plan-council-meeting-29th-july-2021/
URL:https://ashtonparishcouncil.gov.uk/meetings/neighbourhood-plan-council-meeting-29th-july-2021/
END:VEVENT
END:VCALENDAR
