BEGIN:VCALENDAR
VERSION:2.0
PRODID:-//Ashton Parish Council//Meeting Calendar//EN
CALSCALE:GREGORIAN
METHOD:PUBLISH
BEGIN:VEVENT
UID:70756-20240410@ashtonparishcouncil.gov.uk
DTSTAMP:20260421T211850Z
DTSTART;VALUE=DATE:20240410
DTEND;VALUE=DATE:20240411
SUMMARY:Full Council Meeting April 2024
DESCRIPTION:Full Council Meeting\nView details: https://ashtonparishcouncil.gov.uk/meetings/april-2024/
URL:https://ashtonparishcouncil.gov.uk/meetings/april-2024/
END:VEVENT
END:VCALENDAR
