BEGIN:VCALENDAR
VERSION:2.0
PRODID:-//Ashton Parish Council//Meeting Calendar//EN
CALSCALE:GREGORIAN
METHOD:PUBLISH
BEGIN:VEVENT
UID:70757-20240507@ashtonparishcouncil.gov.uk
DTSTAMP:20260421T165229Z
DTSTART;VALUE=DATE:20240507
DTEND;VALUE=DATE:20240508
SUMMARY:Annual Meeting and May Full Council Meeting May 2024
DESCRIPTION:Annual Meeting\nView details: https://ashtonparishcouncil.gov.uk/meetings/may-2024-meeting/
URL:https://ashtonparishcouncil.gov.uk/meetings/may-2024-meeting/
END:VEVENT
END:VCALENDAR
