BEGIN:VCALENDAR
VERSION:2.0
PRODID:-//Ashton Parish Council//Meeting Calendar//EN
CALSCALE:GREGORIAN
METHOD:PUBLISH
BEGIN:VEVENT
UID:70780-20241112@ashtonparishcouncil.gov.uk
DTSTAMP:20260421T201053Z
DTSTART;VALUE=DATE:20241112
DTEND;VALUE=DATE:20241113
SUMMARY:Full Council Meeting November 2024
DESCRIPTION:Full Council Meeting\nView details: https://ashtonparishcouncil.gov.uk/meetings/full-council-meeting-november-2024/
URL:https://ashtonparishcouncil.gov.uk/meetings/full-council-meeting-november-2024/
END:VEVENT
END:VCALENDAR
