BEGIN:VCALENDAR
VERSION:2.0
PRODID:-//Ashton Parish Council//Meeting Calendar//EN
CALSCALE:GREGORIAN
METHOD:PUBLISH
BEGIN:VEVENT
UID:70784-20250311@ashtonparishcouncil.gov.uk
DTSTAMP:20260421T184959Z
DTSTART;VALUE=DATE:20250311
DTEND;VALUE=DATE:20250312
SUMMARY:Full Council Meeting March 2025
DESCRIPTION:Full Council Meeting\nView details: https://ashtonparishcouncil.gov.uk/meetings/full-council-meeting-march-2025/
URL:https://ashtonparishcouncil.gov.uk/meetings/full-council-meeting-march-2025/
END:VEVENT
END:VCALENDAR
