BEGIN:VCALENDAR
VERSION:2.0
PRODID:-//Ashton Parish Council//Meeting Calendar//EN
CALSCALE:GREGORIAN
METHOD:PUBLISH
BEGIN:VEVENT
UID:70785-20250409@ashtonparishcouncil.gov.uk
DTSTAMP:20260421T181134Z
DTSTART;VALUE=DATE:20250409
DTEND;VALUE=DATE:20250410
SUMMARY:Full Council Meeting April 2025
DESCRIPTION:Full Council Meeting\nView details: https://ashtonparishcouncil.gov.uk/meetings/full-council-meeting-april-2025/
URL:https://ashtonparishcouncil.gov.uk/meetings/full-council-meeting-april-2025/
END:VEVENT
END:VCALENDAR
