BEGIN:VCALENDAR
VERSION:2.0
PRODID:-//Ashton Parish Council//Meeting Calendar//EN
CALSCALE:GREGORIAN
METHOD:PUBLISH
BEGIN:VEVENT
UID:70786-20250514@ashtonparishcouncil.gov.uk
DTSTAMP:20260421T164851Z
DTSTART;VALUE=DATE:20250514
DTEND;VALUE=DATE:20250515
SUMMARY:Annual Meeting and May Full Council Meeting May 2025
DESCRIPTION:Annual Meeting\nView details: https://ashtonparishcouncil.gov.uk/meetings/annual-meeting-and-may-full-council-meeting-may-2025/
URL:https://ashtonparishcouncil.gov.uk/meetings/annual-meeting-and-may-full-council-meeting-may-2025/
END:VEVENT
END:VCALENDAR
