BEGIN:VCALENDAR
VERSION:2.0
PRODID:-//Ashton Parish Council//Meeting Calendar//EN
CALSCALE:GREGORIAN
METHOD:PUBLISH
BEGIN:VEVENT
UID:71154-20250619@ashtonparishcouncil.gov.uk
DTSTAMP:20260421T165218Z
DTSTART;VALUE=DATE:20250619
DTEND;VALUE=DATE:20250620
SUMMARY:Full Council Meeting June 2025
DESCRIPTION:Full Council Meeting\nView details: https://ashtonparishcouncil.gov.uk/meetings/full-council-meeting-june-2025/
URL:https://ashtonparishcouncil.gov.uk/meetings/full-council-meeting-june-2025/
END:VEVENT
END:VCALENDAR
