BEGIN:VCALENDAR
VERSION:2.0
PRODID:-//Ashton Parish Council//Meeting Calendar//EN
CALSCALE:GREGORIAN
METHOD:PUBLISH
BEGIN:VEVENT
UID:71157-20250909@ashtonparishcouncil.gov.uk
DTSTAMP:20260421T155200Z
DTSTART;VALUE=DATE:20250909
DTEND;VALUE=DATE:20250910
SUMMARY:Full Council Meeting September 2025
DESCRIPTION:Full Council Meeting\nView details: https://ashtonparishcouncil.gov.uk/meetings/full-council-meeting-september-2025/
URL:https://ashtonparishcouncil.gov.uk/meetings/full-council-meeting-september-2025/
END:VEVENT
END:VCALENDAR
