BEGIN:VCALENDAR
VERSION:2.0
PRODID:-//Ashton Parish Council//Meeting Calendar//EN
CALSCALE:GREGORIAN
METHOD:PUBLISH
BEGIN:VEVENT
UID:71158-20251008@ashtonparishcouncil.gov.uk
DTSTAMP:20260421T155435Z
DTSTART;VALUE=DATE:20251008
DTEND;VALUE=DATE:20251009
SUMMARY:Full Council Meeting October 2025
DESCRIPTION:Full Council Meeting\nView details: https://ashtonparishcouncil.gov.uk/meetings/full-council-meeting-october-2025/
URL:https://ashtonparishcouncil.gov.uk/meetings/full-council-meeting-october-2025/
END:VEVENT
END:VCALENDAR
